BEGIN:VCALENDAR
VERSION:2.0
PRODID:-//Library Market//iCal Export//EN
BEGIN:VEVENT
SUMMARY:CRA-RBOA Meeting
UID:136587
DTSTAMP:20260420T083100Z
DTSTART:20260416T190000Z
DTEND:20260416T200000Z
LOCATION:100 N Osceola Ave, Clearwater, FL 33755, United States
ROOM: Main East Conference Room, 1st Floor
DESCRIPTION:CRA meeting
URL:https://myclearwaterlibrary.librarymarket.com/index.php/event/cra-meet
 ing-136587
END:VEVENT
END:VCALENDAR
