BEGIN:VCALENDAR
VERSION:2.0
PRODID:-//Library Market//iCal Export//EN
BEGIN:VEVENT
SUMMARY:History Hour
UID:136683
DTSTAMP:20260425T135300Z
DTSTART:20260424T180000Z
DTEND:20260424T190000Z
LOCATION:2465 Drew Street, Clearwater, FL 33765, United States
ROOM: East Program Room
DESCRIPTION:Join your favorite Librarian, Keith Law, at the East Community
  Library for an educational presentation into some of history&#039;s most 
 famous and fascinating people.April 24: Ransom OldsMay 29: Cyrus the Great
URL:https://myclearwaterlibrary.librarymarket.com/index.php/event/history-
 hour-136683
END:VEVENT
END:VCALENDAR
