BEGIN:VCALENDAR
VERSION:2.0
PRODID:-//Library Market//iCal Export//EN
BEGIN:VEVENT
SUMMARY:Game On!
UID:136457
DTSTAMP:20260419T150500Z
DTSTART:20260603T210000Z
DTEND:20260603T223000Z
LOCATION:100 N Osceola Ave, Clearwater, FL 33755, United States
ROOM: Main Youth Program Room, 2nd Floor
DESCRIPTION:(Ages 13-18) Video games, board games, and trading card games.
  Gaming consoles and board games provided. Bring your own trading card dec
 ks and handheld gaming devices.
URL:https://myclearwaterlibrary.librarymarket.com/event/game-136457
END:VEVENT
END:VCALENDAR
